BEGIN:VCALENDAR
VERSION:2.0
PRODID:-//hacksw/handcal//NONSGML v1.0//EN
BEGIN:VEVENT
SUMMARY:YOGA : ATELIER YIN YOGA & YOGA NIDRA
UID:b87449c2-45e5-46f8-b731-df149aeee4ab
DTSTART:20260424T170000Z
DTEND:20260424T190000Z
LOCATION:Localisation   
CATEGORIES:Sportif
STATUS:
DESCRIPTION:<p>A l'occasion des vacances de printemps, Christine
 propose un second atelier axe sur la detente et la relaxation
 vendredi 24 avril 2026 de 19h a 21h dans la salle polyvalente , 31
 rue du Cdt Mouchotte 94160 Saint-Mande.</p>
 
 <p>En cette periode
 d'inter-saison, Christine vous invite a retrouver votre equilibre
 interieur et votre serenite grace a une pratique douce en musique qui
 developpe le lacher-prise et relache les muscles, les fascias et les
 articulations en restant longtemps immobile dans les postures. Cette
 pratique posturale sera suivie d'un Yoga Nidra : une meditation
 guidee qui induit un etat de relaxation profonde.</p>
 
 <p>Cet atelier
 est ouvert a tous niveaux</p>
URL;VALUE=URI:https://www.lasaintmandeenne.fr/evenements/2026/04/24/yoga-atelier-yin-yoga-amp-yoga-nidra-2439971
END:VEVENT
END:VCALENDAR
