BEGIN:VCALENDAR
VERSION:2.0
PRODID:-//hacksw/handcal//NONSGML v1.0//EN
BEGIN:VEVENT
SUMMARY:PONT DE L'ASCENSION : PAS DE COURS
UID:9f606827-e014-459f-8e56-e317fc639973
DTSTART:20260513T220000Z
DTEND:20260517T220000Z
LOCATION:Localisation   
CATEGORIES:Sportif
STATUS:
URL;VALUE=URI:https://www.lasaintmandeenne.fr/evenements/2026/05/14/pont-de-lascension-pas-de-cours-2440787
END:VEVENT
END:VCALENDAR
