BEGIN:VCALENDAR
VERSION:2.0
PRODID:-//hacksw/handcal//NONSGML v1.0//EN
BEGIN:VEVENT
SUMMARY:JOUR FERIE : PAS DE COURS
UID:f9811d1c-4058-455d-b7ea-01eb6090f6c9
DTSTART:20260524T220000Z
DTEND:20260525T220000Z
LOCATION:Localisation   
CATEGORIES:Sportif
STATUS:
URL;VALUE=URI:https://www.lasaintmandeenne.fr/evenements/2026/05/25/jour-ferie-pas-de-cours-2440789
END:VEVENT
END:VCALENDAR
